BEGIN:VCALENDAR
VERSION:2.0
PRODID:-//www.reachouryouth.org//NONSGML kigkonsult.se iCalcreator 2.30.10/
 /
CALSCALE:GREGORIAN
METHOD:PUBLISH
UID:494cd32f-826f-48e1-8078-949a6c8b37f0
X-WR-CALDESC:
X-WR-RELCALID:9ff6f7fc4ea8426bc41f567a8de14168
X-WR-TIMEZONE:America/Chicago
BEGIN:VTIMEZONE
TZID:America/Chicago
BEGIN:STANDARD
TZNAME:CST
DTSTART:20251102T020000
TZOFFSETFROM:-0500
TZOFFSETTO:-0600
RDATE:20261101T020000
RDATE:20271107T020000
END:STANDARD
BEGIN:DAYLIGHT
TZNAME:CDT
DTSTART:20260308T020000
TZOFFSETFROM:-0600
TZOFFSETTO:-0500
RDATE:20270314T020000
END:DAYLIGHT
END:VTIMEZONE
BEGIN:VEVENT
UID:6e0398fd-5436-4bec-b82e-d1ff2f616bec
DTSTAMP:20260422T123929Z
DESCRIPTION:
DTSTART;TZID=America/Chicago:20260801T110000
DTEND;TZID=America/Chicago:20260801T130000
LOCATION:Norwalk Reservoir\, Shelter #4
SUMMARY:ROY Summer Picnic
END:VEVENT
END:VCALENDAR
